BEGIN:VCALENDAR
VERSION:2.0
PRODID:-//Mu Lambda Omega Chapter of AKA - ECPv6.15.14//NONSGML v1.0//EN
CALSCALE:GREGORIAN
METHOD:PUBLISH
X-WR-CALNAME:Mu Lambda Omega Chapter of AKA
X-ORIGINAL-URL:https://akamlo.org
X-WR-CALDESC:Events for Mu Lambda Omega Chapter of AKA
REFRESH-INTERVAL;VALUE=DURATION:PT1H
X-Robots-Tag:noindex
X-PUBLISHED-TTL:PT1H
BEGIN:VTIMEZONE
TZID:America/Los_Angeles
BEGIN:DAYLIGHT
TZOFFSETFROM:-0800
TZOFFSETTO:-0700
TZNAME:PDT
DTSTART:20150308T100000
END:DAYLIGHT
BEGIN:STANDARD
TZOFFSETFROM:-0700
TZOFFSETTO:-0800
TZNAME:PST
DTSTART:20151101T090000
END:STANDARD
BEGIN:DAYLIGHT
TZOFFSETFROM:-0800
TZOFFSETTO:-0700
TZNAME:PDT
DTSTART:20160313T100000
END:DAYLIGHT
BEGIN:STANDARD
TZOFFSETFROM:-0700
TZOFFSETTO:-0800
TZNAME:PST
DTSTART:20161106T090000
END:STANDARD
BEGIN:DAYLIGHT
TZOFFSETFROM:-0800
TZOFFSETTO:-0700
TZNAME:PDT
DTSTART:20170312T100000
END:DAYLIGHT
BEGIN:STANDARD
TZOFFSETFROM:-0700
TZOFFSETTO:-0800
TZNAME:PST
DTSTART:20171105T090000
END:STANDARD
END:VTIMEZONE
BEGIN:VEVENT
DTSTART;VALUE=DATE:20161015
DTEND;VALUE=DATE:20161016
DTSTAMP:20260420T171451
CREATED:20160706T013657Z
LAST-MODIFIED:20160812T052352Z
UID:1582-1476489600-1476575999@akamlo.org
SUMMARY:Connection A.C.T.I.O.N. Fall Registration Drive
DESCRIPTION:Mu Lambda Omega Chapter of AKA is committed to getting those in the greater Los Angeles area registered to vote and will host a Community Voter Registration Drive on Saturday\, October 15\, 2016 at A Taste of Soul Family Festival on Crenshaw Boulevard between Stocker Street and Rodeo Road. Check back for more details.
URL:https://akamlo.org/event/connection-a-c-t-i-o-n-fall-registration-drive/
LOCATION:Venue TBD\, Culver City Area\, CA\, United States
CATEGORIES:Community Service
ATTACH;FMTTYPE=image/jpeg:https://akamlo.org/wp-content/uploads/2016/07/ACTION-Fall-Registration.jpg
END:VEVENT
BEGIN:VEVENT
DTSTART;TZID=America/Los_Angeles:20161015T093000
DTEND;TZID=America/Los_Angeles:20161015T120000
DTSTAMP:20260420T171451
CREATED:20160805T053821Z
LAST-MODIFIED:20160915T032035Z
UID:1865-1476523800-1476532800@akamlo.org
SUMMARY:Chapter Meeting
DESCRIPTION:Mu Lambda Omega Chapter monthly chapter meetings (for sorority members only) are held on the third Saturday of every month at 10:00 am at Crenshaw United Methodist Church located at 3740 Don Felipe Drive\, Los Angeles\, CA 90008. Fellowship begins at 9:30 am. If you’re new to the Culver City/Los Angeles area\, or seeking a new AKA home\, we cordially invite you to join us for our next meeting! Click here (hyperlink to Membership page) for more information about requirements for visitors to attend a chapter meeting.
URL:https://akamlo.org/event/chapter-meeting/
LOCATION:St. Bernadette Catholic Church\, 3825 Don Felipe Dr.\, Los Angeles\, CA\, 90008
CATEGORIES:Community Service
ATTACH;FMTTYPE=image/jpeg:https://akamlo.org/wp-content/uploads/2016/09/chapter-photo.jpg
END:VEVENT
END:VCALENDAR