BEGIN:VCALENDAR
VERSION:2.0
PRODID:-//Mu Lambda Omega Chapter of AKA - ECPv6.15.14//NONSGML v1.0//EN
CALSCALE:GREGORIAN
METHOD:PUBLISH
X-ORIGINAL-URL:https://akamlo.org
X-WR-CALDESC:Events for Mu Lambda Omega Chapter of AKA
REFRESH-INTERVAL;VALUE=DURATION:PT1H
X-Robots-Tag:noindex
X-PUBLISHED-TTL:PT1H
BEGIN:VTIMEZONE
TZID:America/Los_Angeles
BEGIN:DAYLIGHT
TZOFFSETFROM:-0800
TZOFFSETTO:-0700
TZNAME:PDT
DTSTART:20250309T100000
END:DAYLIGHT
BEGIN:STANDARD
TZOFFSETFROM:-0700
TZOFFSETTO:-0800
TZNAME:PST
DTSTART:20251102T090000
END:STANDARD
BEGIN:DAYLIGHT
TZOFFSETFROM:-0800
TZOFFSETTO:-0700
TZNAME:PDT
DTSTART:20260308T100000
END:DAYLIGHT
BEGIN:STANDARD
TZOFFSETFROM:-0700
TZOFFSETTO:-0800
TZNAME:PST
DTSTART:20261101T090000
END:STANDARD
BEGIN:DAYLIGHT
TZOFFSETFROM:-0800
TZOFFSETTO:-0700
TZNAME:PDT
DTSTART:20270314T100000
END:DAYLIGHT
BEGIN:STANDARD
TZOFFSETFROM:-0700
TZOFFSETTO:-0800
TZNAME:PST
DTSTART:20271107T090000
END:STANDARD
END:VTIMEZONE
BEGIN:VEVENT
DTSTART;TZID=America/Los_Angeles:20260117T100000
DTEND;TZID=America/Los_Angeles:20260117T120000
DTSTAMP:20260422T223248
CREATED:20260106T184938Z
LAST-MODIFIED:20260106T184943Z
UID:7658-1768644000-1768651200@akamlo.org
SUMMARY:January Chapter Meeting
DESCRIPTION:The Mu Lambda Omega monthly chapter meeting (for sorority members only) will be held on Saturday\, January 17\, 2026 at 10:00am at Crenshaw United Methodist Church located at 3740 Don Felipe Drive\, Los Angeles\, CA 90008.  Fellowship begins at 9:30am.  If you’re new to the Culver City/Los Angeles area\, or seeking a new AKA home\, we cordially invite you to join us for our next meeting!  Click here for more information about requirements for visitors to attend a chapter meeting.
URL:https://akamlo.org/event/january-chapter-meeting-2/
LOCATION:Crenshaw United Methodist Church\, 3740 Don Felipe Dr.\, Los Angeles\, 90008
CATEGORIES:Meeting
ATTACH;FMTTYPE=image/jpeg:https://akamlo.org/wp-content/uploads/2022/07/MLO-Chapter-Photo-2025-hot-pink-attire.jpg
END:VEVENT
BEGIN:VEVENT
DTSTART;TZID=America/Los_Angeles:20260119T100000
DTEND;TZID=America/Los_Angeles:20260119T130000
DTSTAMP:20260422T223248
CREATED:20260107T013932Z
LAST-MODIFIED:20260107T014053Z
UID:7671-1768816800-1768827600@akamlo.org
SUMMARY:MLK Day of Service “We Are One” AKA Service Day
DESCRIPTION:MLK Day of Service “We Are One” AKA Service Day partnering with Big Sunday for the 14th Annual MLK Day Clothing Drive & Community Breakfast! \nThis year\, we are once again collecting gently-used (really!) and new clothing. Socks\, underwear and kids’ pajamas must be new. All kinds of clothes are appreciated – work\, school\, casual\, athletic\, fancy\, costumes\, or anything else. Footwear\, too! \nWe’re also collecting all kinds of non-perishable food to help stock the Big Sunday year-‘round food pantry. (Opening in February!) With the rising cost of groceries and high levels of food insecurity in our community\, your support is needed now more than ever. \n  \nMonday\, January 19\, 2026 | from 10am – 1pm\nSouth Park Elementary School\n8510 Towne Ave\, Los Angeles\, CA 90003
URL:https://akamlo.org/event/mlk-day-of-service-we-are-one-aka-service-day/
LOCATION:South Park Elementary School\, 8510 Towne Ave\, Los Angeles\, CA\, 90003
ATTACH;FMTTYPE=image/png:https://akamlo.org/wp-content/uploads/2026/01/img-MLK21-1.png
END:VEVENT
END:VCALENDAR